BEGIN:VCALENDAR
VERSION:2.0
PRODID:-// HAT CREEK PILOTS ASSOCIATION - ECPv6.15.20//NONSGML v1.0//EN
CALSCALE:GREGORIAN
METHOD:PUBLISH
X-WR-CALNAME: HAT CREEK PILOTS ASSOCIATION
X-ORIGINAL-URL:https://hatcreekrim.com
X-WR-CALDESC:Events for  HAT CREEK PILOTS ASSOCIATION
REFRESH-INTERVAL;VALUE=DURATION:PT1H
X-Robots-Tag:noindex
X-PUBLISHED-TTL:PT1H
BEGIN:VTIMEZONE
TZID:UTC
BEGIN:STANDARD
TZOFFSETFROM:+0000
TZOFFSETTO:+0000
TZNAME:UTC
DTSTART:20140101T000000
END:STANDARD
END:VTIMEZONE
BEGIN:VTIMEZONE
TZID:America/Los_Angeles
BEGIN:DAYLIGHT
TZOFFSETFROM:-0800
TZOFFSETTO:-0700
TZNAME:PDT
DTSTART:20150308T100000
END:DAYLIGHT
BEGIN:STANDARD
TZOFFSETFROM:-0700
TZOFFSETTO:-0800
TZNAME:PST
DTSTART:20151101T090000
END:STANDARD
BEGIN:DAYLIGHT
TZOFFSETFROM:-0800
TZOFFSETTO:-0700
TZNAME:PDT
DTSTART:20160313T100000
END:DAYLIGHT
BEGIN:STANDARD
TZOFFSETFROM:-0700
TZOFFSETTO:-0800
TZNAME:PST
DTSTART:20161106T090000
END:STANDARD
BEGIN:DAYLIGHT
TZOFFSETFROM:-0800
TZOFFSETTO:-0700
TZNAME:PDT
DTSTART:20170312T100000
END:DAYLIGHT
BEGIN:STANDARD
TZOFFSETFROM:-0700
TZOFFSETTO:-0800
TZNAME:PST
DTSTART:20171105T090000
END:STANDARD
END:VTIMEZONE
BEGIN:VTIMEZONE
TZID:UTC
BEGIN:STANDARD
TZOFFSETFROM:+0000
TZOFFSETTO:+0000
TZNAME:UTC
DTSTART:20140101T000000
END:STANDARD
END:VTIMEZONE
BEGIN:VEVENT
DTSTART;TZID=UTC:20250726T170000
DTEND;TZID=UTC:20250728T120000
DTSTAMP:20260423T151405
CREATED:20250519T230350Z
LAST-MODIFIED:20250715T160534Z
UID:5452-1753549200-1753704000@hatcreekrim.com
SUMMARY:Best of Lift 2025
DESCRIPTION:
URL:https://hatcreekrim.com/event/best-of-lift-2025/
LOCATION:LZ 2\, 40.840926\,-121.449821
END:VEVENT
BEGIN:VEVENT
DTSTART;TZID=UTC:20250719T130000
DTEND;TZID=UTC:20250719T170000
DTSTAMP:20260423T151405
CREATED:20250715T160237Z
LAST-MODIFIED:20250715T160333Z
UID:5487-1752930000-1752944400@hatcreekrim.com
SUMMARY:Hat Creek Volunteer Fire Department's 45th Annual Deep Pit BBQ & Craft Fair
DESCRIPTION:
URL:https://hatcreekrim.com/event/hat-creek-volunteer-fire-departments-45th-annual-deep-pit-bbq-craft-fair/
LOCATION:Hat Creek Hereford Ranch RV\, 17855 Doty Road\, Hat Creek\, CA\, 96040\, United States
END:VEVENT
BEGIN:VEVENT
DTSTART;TZID=UTC:20240823T150000
DTEND;TZID=UTC:20240825T190000
DTSTAMP:20260423T151405
CREATED:20240813T225539Z
LAST-MODIFIED:20240813T225548Z
UID:5321-1724425200-1724612400@hatcreekrim.com
SUMMARY:Best Of Lift 2024
DESCRIPTION:
URL:https://hatcreekrim.com/event/best-of-lift-2024/
LOCATION:LZ 2\, 40.840926\,-121.449821
END:VEVENT
BEGIN:VEVENT
DTSTART;TZID=UTC:20240316T190000
DTEND;TZID=UTC:20240316T200000
DTSTAMP:20260423T151405
CREATED:20240310T184906Z
LAST-MODIFIED:20240310T184906Z
UID:5297-1710615600-1710619200@hatcreekrim.com
SUMMARY:HCPA Club Meeting
DESCRIPTION:
URL:https://hatcreekrim.com/event/hcpa-club-meeting/
LOCATION:CA
END:VEVENT
BEGIN:VEVENT
DTSTART;TZID=UTC:20230804T150000
DTEND;TZID=UTC:20230806T193000
DTSTAMP:20260423T151405
CREATED:20230801T195625Z
LAST-MODIFIED:20230801T195625Z
UID:5190-1691161200-1691350200@hatcreekrim.com
SUMMARY:Best of Lift 2023
DESCRIPTION:Pilots and Friends of The Rim…it’s almost that time!  Please join us for the annual Best of Lift Fly-In and FUNdraiser!This uyear’s even will be held August 4th-6th so mark your calendars and cancel those other plans.  This will be the place to be!   \nAs always\, the HCPA will have t-shirts\, prizes\, contests\, and our annual Saturday evening BBQ dinner before awards.  Come hungry and be prepared to fly your glass off!  This time of year boasts some of the most consistent flying conditions and whether it is your first time or countless time flying HCR\, we can’t wait to share the air with you. 👇👇 \n*All pilots must be current USHPA members and please join the club prior to the event. Registration will be avail at event.\n**Event is open to pilots and spectators alike\n***Camping is first come first serve so come out early and get your spot\n****Are you a P2/H2 and need to arrange a sponsor?  Just message the link provided on the website @ hatcreekrim.com. Perfect for those wanting a site intro as well.
URL:https://hatcreekrim.com/event/best-of-lift-2023/
LOCATION:CA
END:VEVENT
BEGIN:VEVENT
DTSTART;TZID=UTC:20210806T160000
DTEND;TZID=UTC:20210808T200000
DTSTAMP:20260423T151405
CREATED:20210614T204811Z
LAST-MODIFIED:20210614T204811Z
UID:4994-1628265600-1628452800@hatcreekrim.com
SUMMARY:BOL 2021
DESCRIPTION:  The Best Of Lift event 2021 will be held Aug 6th through 8th with the main event Saturday the 7th.
URL:https://hatcreekrim.com/event/bol-2021/
LOCATION:LZ 2\, 40.840926\,-121.449821
END:VEVENT
BEGIN:VEVENT
DTSTART;TZID=UTC:20190525T080000
DTEND;TZID=UTC:20190526T170000
DTSTAMP:20260423T151405
CREATED:20190410T154920Z
LAST-MODIFIED:20190517T172246Z
UID:4821-1558771200-1558890000@hatcreekrim.com
SUMMARY:Star Thistle Clearing and HCPA meeting POSTPONED
DESCRIPTION:Star Thistle Clearing Weekend and HCPA meeting.\nStar Thistle to be cleared on launch.\nHCPA meeting LZ2 Sunday Morning 10.00am.\n\n\nView Larger Map\n \n  \n 
URL:https://hatcreekrim.com/event/star-thistle-clearing-and-hcpa-meeting/
LOCATION:LZ 2\, 40.840926\,-121.449821
END:VEVENT
BEGIN:VEVENT
DTSTART;TZID=UTC:20180804T150000
DTEND;TZID=UTC:20180804T230000
DTSTAMP:20260423T151405
CREATED:20180322T222759Z
LAST-MODIFIED:20180322T222800Z
UID:3772-1533394800-1533423600@hatcreekrim.com
SUMMARY:Best of Lift Fly In 2018
DESCRIPTION:    The Best of Lift Fly In 2018\n       Flying Friday Saturday and Sunday\, we hope\, and food and merriment on Saturday evening.
URL:https://hatcreekrim.com/event/best-of-lift-fly-in-2018/
LOCATION:LZ 2\, 40.840926\,-121.449821
END:VEVENT
BEGIN:VEVENT
DTSTART;TZID=UTC:20180429T100000
DTEND;TZID=UTC:20180429T110000
DTSTAMP:20260423T151405
CREATED:20180322T223119Z
LAST-MODIFIED:20180322T223119Z
UID:3778-1524996000-1524999600@hatcreekrim.com
SUMMARY:HCPA Spring Meeting
DESCRIPTION:
URL:https://hatcreekrim.com/event/hcpa-spring-meeting-2/
LOCATION:JJ’s Cafe\, Old Station\, 13385 CA-89\, Old Station\, CA\, 96071\, United States
END:VEVENT
BEGIN:VEVENT
DTSTART;TZID=UTC:20171029T100000
DTEND;TZID=UTC:20171029T110000
DTSTAMP:20260423T151405
CREATED:20171020T215245Z
LAST-MODIFIED:20171020T215245Z
UID:3689-1509271200-1509274800@hatcreekrim.com
SUMMARY:HCPA Fall Meeting
DESCRIPTION:
URL:https://hatcreekrim.com/event/hcpa-fall-meeting/
LOCATION:JJ’s Cafe\, Old Station\, 13385 CA-89\, Old Station\, CA\, 96071\, United States
END:VEVENT
BEGIN:VEVENT
DTSTART;TZID=UTC:20170902T050000
DTEND;TZID=UTC:20170904T220000
DTSTAMP:20260423T151405
CREATED:20170815T221356Z
LAST-MODIFIED:20170815T221356Z
UID:3639-1504328400-1504562400@hatcreekrim.com
SUMMARY:Labor Day Hat Creek Pilot Gathering
DESCRIPTION:  An unorganized gathering of pilots sharing the Hat Creek Glass Off
URL:https://hatcreekrim.com/event/labor-day-hat-creek-pilot-gathering/
LOCATION:LZ 2\, 40.840926\,-121.449821
END:VEVENT
BEGIN:VEVENT
DTSTART;TZID=UTC:20170812T150000
DTEND;TZID=UTC:20170812T233000
DTSTAMP:20260423T151405
CREATED:20170607T195122Z
LAST-MODIFIED:20170717T170006Z
UID:3562-1502550000-1502580600@hatcreekrim.com
SUMMARY:Best Of Lift Fly In 2017
DESCRIPTION: 
URL:https://hatcreekrim.com/event/best-of-lift-fly-in-2017/
LOCATION:LZ 2\, 40.840926\,-121.449821
END:VEVENT
BEGIN:VEVENT
DTSTART;TZID=UTC:20170715T120000
DTEND;TZID=UTC:20170715T170000
DTSTAMP:20260423T151405
CREATED:20170302T152205Z
LAST-MODIFIED:20170302T152205Z
UID:3479-1500120000-1500138000@hatcreekrim.com
SUMMARY:Hat Creek Volunteer Fire Department 38th Annual Deep Pit BBQ
DESCRIPTION:The Hat Creek VFD Deep pit BBQ benefits the local volunteers who would come to rescue us in the event of a mishap. Please come to this event and support the local volunteers.\nThere is a good chance at this time of year for the flying conditions to be excellent at Hat Creek. A win Win situation.\nSee you there.\n 
URL:https://hatcreekrim.com/event/hat-creek-volunteer-fire-department-38th-annual-deep-pit-bbq/
LOCATION:Hat Creek Hereford Ranch RV\, Hat Creek Hereford Ranch RV Park & Campground\, Hat Creek\, CA\, 96040\, United States
END:VEVENT
BEGIN:VEVENT
DTSTART;TZID=UTC:20170619T090000
DTEND;TZID=UTC:20170619T170000
DTSTAMP:20260423T151405
CREATED:20170609T180614Z
LAST-MODIFIED:20170609T180614Z
UID:3566-1497862800-1497891600@hatcreekrim.com
SUMMARY:Weed Pulling Day
DESCRIPTION:  Help the Forest Service\, and the club\, come and pull star thistle from the launch area.\nMeeting at Launch at 9.00 am
URL:https://hatcreekrim.com/event/weed-pulling-day/
LOCATION:CA
END:VEVENT
BEGIN:VEVENT
DTSTART;TZID=UTC:20170521T100000
DTEND;TZID=UTC:20170521T113000
DTSTAMP:20260423T151405
CREATED:20170302T150816Z
LAST-MODIFIED:20170414T174012Z
UID:3473-1495360800-1495366200@hatcreekrim.com
SUMMARY:HCPA spring meeting
DESCRIPTION:HCPA Spring club meeting JJ’s Cafe\n 
URL:https://hatcreekrim.com/event/hcpa-spring-meeting/
LOCATION:JJ’s Cafe\, Old Station\, 13385 CA-89\, Old Station\, CA\, 96071\, United States
END:VEVENT
BEGIN:VEVENT
DTSTART;TZID=UTC:20170520T070000
DTEND;TZID=UTC:20170520T120000
DTSTAMP:20260423T151405
CREATED:20170327T180942Z
LAST-MODIFIED:20170414T174436Z
UID:3488-1495263600-1495281600@hatcreekrim.com
SUMMARY:Cal Fire\, HCVFD\, HCPA Rescue Training day
DESCRIPTION:We will be holding a “rescue training day” with Cal Fire\, HCVFD.\nThe object is to train/prepare Firefighters and pilots how to deal with rescues including helicopter rescue demonstrations by CHP and Cal Fire.\nDirections to LZ 2 here
URL:https://hatcreekrim.com/event/cal-fire-hcvfd-hcpa-rescue-training-day/
LOCATION:HCVFD\, 17749 CA-89\, \, Hat Creek\, CA\, 96040\, United States
END:VEVENT
BEGIN:VEVENT
DTSTART;TZID=America/Los_Angeles:20160807T080000
DTEND;TZID=America/Los_Angeles:20160807T080000
DTSTAMP:20260423T151405
CREATED:20160627T220139Z
LAST-MODIFIED:20160627T221017Z
UID:3363-1470556800-1470556800@hatcreekrim.com
SUMMARY:The Fly Your Glass Off Fly In 2016
DESCRIPTION:The Fly Your Glass Off Fly In has always been a low key affair flying glass-offs at different sites in NE california.   Sugar Hill in Modoc county is the favorite as glass offs there regularly reward pilots with a 28mile  flight to Lakeview and beyond all in smooth glassy air.  Launches can be in high winds and landings are usually no wind at around 5000ft. We usually start at Hat Creek and review the weather and make decisions where to go from there.\n  \nThe Fly Your Glass Off Fly In Starts the day after the Best of Lift Fly In and ends when everyone has had enough.
URL:https://hatcreekrim.com/event/3363/
LOCATION:CA
END:VEVENT
BEGIN:VEVENT
DTSTART;TZID=UTC:20160806T080000
DTEND;TZID=UTC:20160807T200000
DTSTAMP:20260423T151405
CREATED:20160419T162424Z
LAST-MODIFIED:20160627T222113Z
UID:3327-1470470400-1470600000@hatcreekrim.com
SUMMARY:Best of Lift Fly In 2016
DESCRIPTION:
URL:https://hatcreekrim.com/event/best-of-lift-fly-in-2016/
LOCATION:CA
END:VEVENT
BEGIN:VEVENT
DTSTART;TZID=UTC:20150816T080000
DTEND;TZID=UTC:20150823T220000
DTSTAMP:20260423T151405
CREATED:20150617T135723Z
LAST-MODIFIED:20160627T220650Z
UID:1285-1439712000-1440367200@hatcreekrim.com
SUMMARY:Fly Your Glass Off Fly In
DESCRIPTION:The Fly Your Glass Off Fly In\nThe Fly Your Glass Off Fly In has always been a low key affair flying glass-offs at different sites in NE california.   Sugar Hill in Modoc county is the favorite as glass offs there regularly reward pilots with a 28mile  flight to Lakeview and beyond all in smooth glassy air.  Launches can be in high winds and landings are usually no wind. We usually start at Hat Creek and review the weather and make decisions where to go from there.
URL:https://hatcreekrim.com/event/fly-your-glass-off-fly-in/
LOCATION:N.E California
END:VEVENT
BEGIN:VEVENT
DTSTART;TZID=UTC:20150815T160000
DTEND;TZID=UTC:20150816T010000
DTSTAMP:20260423T151405
CREATED:20150617T024819Z
LAST-MODIFIED:20150617T024819Z
UID:1275-1439654400-1439686800@hatcreekrim.com
SUMMARY:Best of Lift Fly In 2015
DESCRIPTION:
URL:https://hatcreekrim.com/event/best-of-lift-fly-in-2015/
LOCATION:LZ 2\, 40.840926\,-121.449821
END:VEVENT
BEGIN:VEVENT
DTSTART;TZID=UTC:20150718T150000
DTEND;TZID=UTC:20150718T170000
DTSTAMP:20260423T151405
CREATED:20150616T202538Z
LAST-MODIFIED:20150616T202554Z
UID:1261-1437231600-1437238800@hatcreekrim.com
SUMMARY:Hat Creek Volunteer Fire Dept Deep Pit BBQ
DESCRIPTION:Come support and thank the HCVFD our local 1st responders enjoy the incredible food and increase your wing loading in time to fly the glass off
URL:https://hatcreekrim.com/event/hat-creek-volunteer-fire-dept-deep-pit-bbq/
LOCATION:HCVFD Deep Pit BBQ\, 17855 Doty Road\, \, Hat Creek\, 96040\, United States
END:VEVENT
END:VCALENDAR